BEGIN:VCALENDAR
VERSION:2.0
CALSCALE:GREGORIAN
PRODID:-//MyApp//Calendar 1.0//EN
BEGIN:VEVENT
METHOD:PUBLISH
UID:49439@regionalniportaly.cz
DTSTAMP:20260422T092547Z
DTSTART;VALUE=DATE:20250505
DTEND;VALUE=DATE:20250506
SUMMARY:VŠECHNY BÁJEČNÉ VĚCI | Divadelní představení
DESCRIPTION:Hlavní a jedinou postavou hry je chlapec\, který má jeden jediný úkol – přesvědčit nejen svou matku\, že na světě existuje milion věcí\, kvůli kterým stojí za to se nezabíjet… Dojemná\, vtipná interaktivní inscenace o hledání důvodů\, proč žít. “Začal jsem psát po jejím prvním pokusu. Seznam všeho úžasného na světě. Všeho\, pro co stojí za to žít.”\nDaniel Krejčík byl za svůj výkon v dojemné a vtipné interaktivní inscenaci pro jednoho herce a publikum oceneň redakcí portálu i-divadlo.cz v kategorii Mužský herecký výkon roku 2018 - obor činohra (o prvenství se dělí s Janem Vlasákem z Divadla po Palmovkou). V diváckém hlasování pak zaujímá v oboru činohra 3. místo.II
LOCATION:Kuřim
END:VEVENT
END:VCALENDAR