BEGIN:VCALENDAR
VERSION:2.0
CALSCALE:GREGORIAN
PRODID:-//MyApp//Calendar 1.0//EN
BEGIN:VEVENT
METHOD:PUBLISH
UID:49435@regionalniportaly.cz
DTSTAMP:20260422T171143Z
DTSTART;VALUE=DATE:20250305
DTEND;VALUE=DATE:20250306
SUMMARY:David Paša & Lenka Titzová | Spolek přátel hudby
DESCRIPTION:Netradiční koncert dua bicích nástrojů.
LOCATION:Kuřim
END:VEVENT
END:VCALENDAR