BEGIN:VCALENDAR
VERSION:2.0
CALSCALE:GREGORIAN
PRODID:-//MyApp//Calendar 1.0//EN
BEGIN:VEVENT
METHOD:PUBLISH
UID:49434@regionalniportaly.cz
DTSTAMP:20260422T155002Z
DTSTART;VALUE=DATE:20250225
DTEND;VALUE=DATE:20250226
SUMMARY:Šťastný vyvolený | Divadelní představení
DESCRIPTION:Manželé Greg a Melanie pozvali svého kamaráda Jeffa na večeři. Jeffova bývalá přítelkyně Charlie\, kterou pět let neviděl\, se má vdávat a za svědka si vybrala Melanii. Shodou okolností se Charlie se svým vyvoleným objeví na společné večeři. Charlie ho miluje\, ačkoliv své přátele předem varuje\, že je "trochu jiný".\nJak moc jiný? Nechte se překvapit.\nHrají: David Matásek\, Linda Rybová\, Jana Janěková ml.\, Igor Chmela\, Matouš Ruml
LOCATION:Kuřim
END:VEVENT
END:VCALENDAR