BEGIN:VCALENDAR
VERSION:2.0
CALSCALE:GREGORIAN
PRODID:-//MyApp//Calendar 1.0//EN
BEGIN:VEVENT
METHOD:PUBLISH
UID:48706@regionalniportaly.cz
DTSTAMP:20260422T142415Z
DTSTART;VALUE=DATE:20241205
DTEND;VALUE=DATE:20241206
SUMMARY:Kouzelné Vánoce s Majdou a Petrem
DESCRIPTION:Velké interaktivní vánoční představení Magdaleny Reifové a Petra Vacka obsahuje spoustu písniček\, koled\, tajemných překvapení a vánočních kouzel\, které zaujme malé i velké diváky.Během představení se bude lyžovat\, sáňkovat\, zpívat\, stavět sněhuláka a pokud bude chybět sníh\, Majda a Petr si jej společně s malými diváky vyčarují. Slibují\, že koulovačka nebude chybět!\n5. 12. / 17:00 / kulturní dům Kuřim\nVstupné: 150 Kč/dítě do 10 let\, 250 Kč/děti od 11 let a dospělí\nVstupenky zakoupíte na www.kulturakurim.cz nebo na pokladně kulturního domu od 18.11.2024.
LOCATION:Kuřim
END:VEVENT
END:VCALENDAR