BEGIN:VCALENDAR
VERSION:2.0
CALSCALE:GREGORIAN
PRODID:-//MyApp//Calendar 1.0//EN
BEGIN:VEVENT
METHOD:PUBLISH
UID:48488@regionalniportaly.cz
DTSTAMP:20260422T143124Z
DTSTART;VALUE=DATE:20241214
DTEND;VALUE=DATE:20241215
SUMMARY:WILD FEST - zimní scéna
DESCRIPTION:Wild Fest – Zimní scéna&nbsp\;14. 12. 2024Start: 19:00 Konec: 2:30Kulturní dům Kuřim&nbsp\;Speciální live show DJ Hrushy – unikátní hudební zážitek\, kdy vás DJ Hrusha okouzlí nejen svým setem\, ale také živou hrou na saxofon a kytaru.&nbsp\;Těšte se můžete na návrat oblíbeného dua Future Friends a další ...!&nbsp\;Caballero koktejl barGogo tanečniceNašlapaná stage plná energie&nbsp\;Vstupenky:•&nbsp\;&nbsp\; &nbsp\;V předprodeji: 140 Kč•&nbsp\;&nbsp\; &nbsp\;Na místě: 190 Kč&nbsp\;&nbsp\;
LOCATION:Kuřim
END:VEVENT
END:VCALENDAR