BEGIN:VCALENDAR
VERSION:2.0
CALSCALE:GREGORIAN
PRODID:-//MyApp//Calendar 1.0//EN
BEGIN:VEVENT
METHOD:PUBLISH
UID:48203@regionalniportaly.cz
DTSTAMP:20260422T143220Z
DTSTART;VALUE=DATE:20241212
DTEND;VALUE=DATE:20241213
SUMMARY:Jakub Vágner v Říčanech u Brna
DESCRIPTION:Jakub je celosvětově uznávaný rybář\, dobrodruh a cestovatel. Do Říčan zavítá s prezentací na téma SUMCI.
LOCATION:Říčany
END:VEVENT
END:VCALENDAR