BEGIN:VCALENDAR
VERSION:2.0
CALSCALE:GREGORIAN
PRODID:-//MyApp//Calendar 1.0//EN
BEGIN:VEVENT
METHOD:PUBLISH
UID:46771@regionalniportaly.cz
DTSTAMP:20260422T143156Z
DTSTART;VALUE=DATE:20241123
DTEND;VALUE=DATE:20241124
SUMMARY:Řemeslný trh VII. | Kuřim
DESCRIPTION:Sedmý řemeslný trh v Kuřimi! \nPřijďte nakoupit řemeslné výrobky a podpořit tak prodejce.\n oblečení\, šperky\, keramiku\, kabelky\, bytové dekorace\, kosmetiku\, svíčky\, hračky\, přáníčka a mnoho dalšího  kreativní tvůrci nejen z portálu @fler.cz  workshopy pro děti a kreativní nadšence  občerstvení  vstup volný
LOCATION:Kuřim
END:VEVENT
END:VCALENDAR