BEGIN:VCALENDAR
VERSION:2.0
CALSCALE:GREGORIAN
PRODID:-//MyApp//Calendar 1.0//EN
BEGIN:VEVENT
METHOD:PUBLISH
UID:46769@regionalniportaly.cz
DTSTAMP:20260422T141303Z
DTSTART;VALUE=DATE:20241117
DTEND;VALUE=DATE:20241118
SUMMARY:Kuřimský SWAP VII
DESCRIPTION:Sedmý kuřimský SWAP v kulturáku! \n „Vyřazuji\, co už se mi nehodí a výměnou si vyberu\, co mému oku lahodí.“  SWAP je ideální možnost vyřadit své nepotřebné věci a darovat je ostatním. Na oplátku máte možnost si vybrat z věcí\, které donesli ostatní.  Spolupráce se SWAP Kuřim :https://www.facebook.com/groups/504571000093509/\nPravidla zůstávají stejná    CO BEREME :- oblečení a obuv- potřeby do domácnosti- hračky i knihy- elektroniku - jen funkční- bižuterii- kosmetiku- rostliny...jestli váháte\, klidně se ptejte do zprávy  Při předání budeme vše kontrolovat a nevyhovující věci budeme vracet majiteli.  Vše\, co nebude vyswapováno\, bude věnováno různým organizacím (rozhodnutí padne vždy podle toho\, co zůstane – nadace Veronika\, veřejné knihovny\, charita\, nebo podpora volnočasového spolku pro děti).  CO NENOSIT:- poškozené\, špinavé nebo nefunkční věci- potraviny a léky- velkoobjemové předměty  kde: velký sál Společenského a kulturního centra Kuřim  vstupné: zdarma
LOCATION:Kuřim
END:VEVENT
END:VCALENDAR