BEGIN:VCALENDAR
VERSION:2.0
CALSCALE:GREGORIAN
PRODID:-//MyApp//Calendar 1.0//EN
BEGIN:VEVENT
METHOD:PUBLISH
UID:46768@regionalniportaly.cz
DTSTAMP:20260422T171123Z
DTSTART;VALUE=DATE:20241031
DTEND;VALUE=DATE:20241101
SUMMARY:Halloweenská diskotéka pro děti
DESCRIPTION:➡️ Zveme vás na halloweenskou diskotéku pro děti. Děti se mohou těšit na tancování a také na soutěže. 🎃\n \n➡️ S sebou: kostým (nepovinné) a dobrou náladu. 😊\n \n➡️ 31. 10. / 17:00-19:00 / kulturní dům\n \n➡️ Vstupné: 80 Kč/os.\; o prodeji vstupenek vás budeme informovat
LOCATION:Kuřim
END:VEVENT
END:VCALENDAR