BEGIN:VCALENDAR
VERSION:2.0
CALSCALE:GREGORIAN
PRODID:-//MyApp//Calendar 1.0//EN
BEGIN:VEVENT
METHOD:PUBLISH
UID:46620@regionalniportaly.cz
DTSTAMP:20260422T155932Z
DTSTART;VALUE=DATE:20241102
DTEND;VALUE=DATE:20241103
SUMMARY:NOČNÍ LES 2024
DESCRIPTION:LETOS PRO VÁS PŘIPRAVUJEME JIŽ 5. ROČNÍK NOČNÍHO LESA.Listopadový podzimní tajemný večer ... opět ideální doba na to potkat v lese strašidla.Přijďte za námi do areálu U Mravence nakouknout do lesa\, kde potkáte nejen živá strašidla.Přichystáme také tvořivé dílničky\, kde si budete moct s dětmi vyrobit vlastní strašidýlko nebo vydlabat dýni. Pomůcky a dekorace pro vás připravíme a naši lesní pedagogové vám rádi poradí.Dýně budou k prodeji na místě v omezeném množství\, dlabací nástroje je potřeba mít vlastní.Od 14\,30 bude vstup na stezku odvahy pro děti mladší nebo ty bojácnější.Jak se začne stmívat\, bude stezka pro děti starší a ty které se tajemného lesa nebojí.Nejoriginálnější strašidelné masky\, nejoriginálnější strašidýlka a nejoriginálnější vydlabané dýně\, které vybereme\, odměníme dárečkem.V 19:00 hodin ze vstupenek vybereme 3\, kteří získají pobyt v Tree house\, v týpí a únikovou hru PO STOPÁCH VZÁCNÉ MASOŽRAVKY.Kdo se nezvládne zkrášlit doma\, k dispozici budou na místě malířky na obličej\, které vám vykouzlí strašidelnou krásu\, kterou nebudete chtít ani doma smýt&nbsp\;Občerstvení zajištěno\, nebudou chybět dýňové speciality a pro děti i párek v rohlíku a další.Teplé i studené nápoje\, jak alko tak nealko.Děkujeme\, že na místě nebudete konzumovat vlastní potraviny\, všeho bude dostatek&nbsp\;PARKOVÁNÍ V AREÁLU NENÍ MOŽNÉ\, ZAJIŠTĚNO BUDE PARKOVÁNÍ V OMEZENÉM MNOŽSTVÍ CCA 500 METRŮ PŘED AREÁLEM.PROSÍME NEPARKUJTE PODÉL PŘÍJEZDOVÉ KOMUNIKACE.DOPORUČUJEME PŘIJÍT PĚŠKY OD ŘEČKOVIC.VSTUPNÉ 120 KČ\, DĚTI DO 3 LET ZDARMA
LOCATION:Jinačovice
END:VEVENT
END:VCALENDAR