BEGIN:VCALENDAR
VERSION:2.0
CALSCALE:GREGORIAN
PRODID:-//MyApp//Calendar 1.0//EN
BEGIN:VEVENT
METHOD:PUBLISH
UID:45995@regionalniportaly.cz
DTSTAMP:20260422T143201Z
DTSTART;VALUE=DATE:20241114
DTEND;VALUE=DATE:20241115
SUMMARY:Zkurvení havlisti | Divadelní představení
DESCRIPTION:Hubert\, Bořek a Vladan chodí pravidelně do té naší krásné sauny. Prohřát se. Vyplavit toxiny a utužit zdraví. A taky si popovídat. Probrat současnou společnost. Politiku. Zdravotnictví. Ekonomiku. Fotbal. Autobazary. Evropskou unii. Raketové motory. Chemické procesy v listech rostlin. Kulturu a vatu. Trochu popřemýšlet o tom\, kam se ten svět vlastně sype.\n \n \nSe vzrůstající teplotou jejich těl stoupá i jejich nasazení. Angažovanost. Chvílemi se rozpálí do běla. Jak to dneska známe. Máte-li také zájem o lidstvo\, tak přijďte\, tihle chlapíci vás nakopnou určitě správným směrem.\n \n \nKouzelná komedie o třech mužích\, kteří rozumí všemu.\n \n \nHrají :\n \nBOŘEK : Miroslav Hanuš\n \nVLADAN : Tomáš Měcháček / Filip Teller\n \nHUBERT : Karel Zima / Michal Bumbálek\n \n \nRežie Luboš Balák.\n \n \nDélka představení 80 minut.
LOCATION:Kuřim
END:VEVENT
END:VCALENDAR