BEGIN:VCALENDAR
VERSION:2.0
CALSCALE:GREGORIAN
PRODID:-//MyApp//Calendar 1.0//EN
BEGIN:VEVENT
METHOD:PUBLISH
UID:45060@regionalniportaly.cz
DTSTAMP:20260422T183435Z
DTSTART;VALUE=DATE:20241126
DTEND;VALUE=DATE:20241127
SUMMARY:Předvánoční koncert Václava Noida Bárty
DESCRIPTION:➡️ Václav Noid Bárta\, charizmatický zpěvák s nezaměnitelným hlasem\, bude mít předvánoční koncert v Kuřimi!➡️ 26. 11. 2024 od 19:00\, ve velkém sále kulturního domu➡️ Na poli populární a rockové hudby v průběhu let spolupracoval jako skladatel\, aranžér a zpěvák například s Lucií Bílou\, Bárou Basikovou\, Helenou Vondráčkovou\, Kamilem Střihavkou\, Lucií Vondráčkovou a dalšími.➡️ Je předním sólistou na scéně Hudebního divadla Karlín\, kde zazářil již v roli Garcíi v CARMEN\, následně ztvárnil Radamese v AIDĚ\, hlavní roli Daniela v muzikálu LUCIE\, VĚTŠÍ NEŽ MALÉ MNOŽSTVÍ LÁSKY\, sluhu Lurche v THE ADDAMS FAMILY a Clydea v muzikálu BONNIE AND CLYDE . Aktuálně září v roli Ježíše\, ale i Jidáše Iškariotského a Piláta Pontského v JESUS CHRIST SUPERSTAR\, Curtise v muzikálu SESTRA V AKCI a opět jako Garcia v obnovené CARMEN.➡️ Vstupné: 590 Kč v předprodeji / 670 Kč v den akce\; vstupenky zakoupíte na www.kulturakurim.cz nebo na pokladně kulturního domu.
LOCATION:Kuřim
END:VEVENT
END:VCALENDAR