BEGIN:VCALENDAR
VERSION:2.0
CALSCALE:GREGORIAN
PRODID:-//MyApp//Calendar 1.0//EN
BEGIN:VEVENT
METHOD:PUBLISH
UID:45059@regionalniportaly.cz
DTSTAMP:20260422T142506Z
DTSTART;VALUE=DATE:20241104
DTEND;VALUE=DATE:20241105
SUMMARY:Švanci show „JÁ SU JÁ“
DESCRIPTION:➡️ Show „JÁ SU JÁ“ exkluzivně ve speciální limitované tour po České republice.➡️ 4. 11. 2024 od 19:00\, ve velkém sále kulturního domu➡️ Čekají vás historky o životě Petra Švancary\, prostor na otázky na tělo\, autogramiáda\, focení a mnoho dalšího.Jak moc dobře ho znáte? Co ještě neřekl o Survivoru? Jaká byla jeho profesionální kariéra fotbalisty? Nejen to se dozvíš ve zbrusu nové zábavné show „JÁ SU JÁ“.Přijď se podívat a užít si legraci\, popovídat si s legendou fotbalu\, moderátorem\, bavičem a dát si třeba fotku\, nebo si nechat cokoliv podepsat.➡️ Vstupné: 390 Kč v předprodeji / 470 Kč v den akce\; vstupenky zakoupíte na www.kulturakurim.cz nebo na pokladně kulturního domu.
LOCATION:Kuřim
END:VEVENT
END:VCALENDAR