BEGIN:VCALENDAR
VERSION:2.0
CALSCALE:GREGORIAN
PRODID:-//MyApp//Calendar 1.0//EN
BEGIN:VEVENT
METHOD:PUBLISH
UID:45054@regionalniportaly.cz
DTSTAMP:20260422T141254Z
DTSTART;VALUE=DATE:20240918
DTEND;VALUE=DATE:20240919
SUMMARY:Posezení s písničkou
DESCRIPTION:Oblíbené každoměsíční setkání pro seniory v Kuřimi.Prodej vstupenek a vstup do sálu od 15:15. Začínáme 16:00. Hudební doprovod zajistí Jiří Nečas a Hana Mašková.
LOCATION:Kuřim
END:VEVENT
END:VCALENDAR