BEGIN:VCALENDAR
VERSION:2.0
CALSCALE:GREGORIAN
PRODID:-//MyApp//Calendar 1.0//EN
BEGIN:VEVENT
METHOD:PUBLISH
UID:45053@regionalniportaly.cz
DTSTAMP:20260422T200624Z
DTSTART;VALUE=DATE:20240903
DTEND;VALUE=DATE:20240904
SUMMARY:Kosí bratři | zábava pro děti
DESCRIPTION:➡️ 3. 9. 2024 od 17:00\, v kulturním domě➡️ Dětské divadelní představení Kosí bratři od Divadla Scéna➡️ Žili\, byli dva kosí bratři. Starší Josef za osmnáct a mladší Václav bez dvou za dvacet.Josef s Václavem spolu vyvádějí nejrůznější taškařice\, vylomeniny a zažívají mnohá dobrodružství. Přijďte se podívat na to\, jak zkoušeli kopat metro\, kdo jim to poradil a jak to nakonec dopadlo. Jak zkoušeli jezdit na kole. A kdo si nakonec na kole natloukl nos nebo zobák? Víte\, jak se krotí lev? Josef s Václavem vám to ukážou. Umí toho ještě mnohem víc. A jestlipak umí dělat i dobré skutky? Josef s Václavem jsou prostě kosí kluci jak se patří.➡️ Režie: Michal Sopuch➡️ Hudba: Mario Buzzi➡️ Scéna a kostýmy: Hana Knotková➡️ Vstup: 80 Kč/os. (děti do 2 let vstup zdarma bez nároku na místo)\;➡️ !!! Upozorňujeme\, že v případě\, že se vstupenky vyprodají v předprodeji\, tak už nebude možné je zakoupit na místě před představením. 
LOCATION:Kuřim
END:VEVENT
END:VCALENDAR