BEGIN:VCALENDAR
VERSION:2.0
CALSCALE:GREGORIAN
PRODID:-//MyApp//Calendar 1.0//EN
BEGIN:VEVENT
METHOD:PUBLISH
UID:44738@regionalniportaly.cz
DTSTAMP:20260422T200503Z
DTSTART;VALUE=DATE:20240729
DTEND;VALUE=DATE:20240730
SUMMARY:Food truck Roburrito
DESCRIPTION: Chuťový zážitek před kulťasem s Roburrito  29. 7. od 16:00 do 19:00 nebo do vyprodání zásob  Přijďte ochutnat chuť Mexika 
LOCATION:Kuřim
END:VEVENT
END:VCALENDAR