BEGIN:VCALENDAR
VERSION:2.0
CALSCALE:GREGORIAN
PRODID:-//MyApp//Calendar 1.0//EN
BEGIN:VEVENT
METHOD:PUBLISH
UID:43124@regionalniportaly.cz
DTSTAMP:20260422T201126Z
DTSTART;VALUE=DATE:20240823
DTEND;VALUE=DATE:20240824
SUMMARY:Paulie Garand & Live Band / Kulturní léto
DESCRIPTION:➡️ Český rapper Paulie Garand přijede do Kuřimi v rámci Kulturního léta 2024!➡️ 23. 8. / 19:00 / nádvoří zámku➡️ Vstupné: 350 Kč předprodej / 430 Kč v den akce➡️ Kuřim dětem - Kulturní léto za 50 Kč pro děti do 12 letVstupenky zakoupíte od 29. 5. na www.kulturakurim.cz nebo na pokladně kulturního domu.
LOCATION:Kuřim
END:VEVENT
END:VCALENDAR