BEGIN:VCALENDAR
VERSION:2.0
CALSCALE:GREGORIAN
PRODID:-//MyApp//Calendar 1.0//EN
BEGIN:VEVENT
METHOD:PUBLISH
UID:43121@regionalniportaly.cz
DTSTAMP:20260422T231913Z
DTSTART;VALUE=DATE:20240805
DTEND;VALUE=DATE:20240806
SUMMARY:Promenádní koncert / Cimbálová muzika majerán / Kulturní léto
DESCRIPTION:Pohodová letní atmosféra\, hudba\, která láká k tanci\, a příležitost pro mezigenerační setkání.\nCimbálová muzika MajeránPochází z jihomoravského města Blanska a do roku 2010 se jmenovali DRAHAN.Zahrajeme vám  na oslavách\, svatbách\, firemních akcích\, posezeních a plesechpísničky z Moravy\, Čech i Slovenska a na přání i rock nebo folk.
LOCATION:Kuřim
END:VEVENT
END:VCALENDAR