BEGIN:VCALENDAR
VERSION:2.0
CALSCALE:GREGORIAN
PRODID:-//MyApp//Calendar 1.0//EN
BEGIN:VEVENT
METHOD:PUBLISH
UID:41162@regionalniportaly.cz
DTSTAMP:20260422T184103Z
DTSTART;VALUE=DATE:20240409
DTEND;VALUE=DATE:20240410
SUMMARY:LISTOVÁNÍ.CZ: Lichožrouti
DESCRIPTION:Je to nejobratnější lupič všech dob a dosud nikdy nebyl dopaden. Možná i vám se včera nebo právě v této chvíli ztratila ponožka. Kdo za to může? Lichožrout! Záhadný tvor\, který žere ponožky a z párů dělá licháče. Jejich tajemný svět zrcadlí napínavý a vtipný příběh jedné lichožroutí rodinky\, starého mládence pana Vavřince a malého nešiky lichožrouta Hihlíka. A tento příběh potěší\, jak je v projektu LiStOVáNí zvykem\, všechny generace\, protože přiznejme si - komu doma nechybí vždycky jedna ponožka?! Lichožrouti se stali v ocenění Magnesie Litery Dětskou knihou desetiletí!- účinkují: Věra Hollá\, Pavel Oubram a Tomáš Drápela- vydalo nakladatelství Paseka
LOCATION:Kuřim
END:VEVENT
END:VCALENDAR