BEGIN:VCALENDAR
VERSION:2.0
CALSCALE:GREGORIAN
PRODID:-//MyApp//Calendar 1.0//EN
BEGIN:VEVENT
METHOD:PUBLISH
UID:39859@regionalniportaly.cz
DTSTAMP:20260422T200613Z
DTSTART;VALUE=DATE:20240320
DTEND;VALUE=DATE:20240321
SUMMARY:Posezení s písničkou
DESCRIPTION:Oblíbené každoměsíční setkání pro seniory. Prodej vstupenek a vstup do sálu od 15:15. Začínáme 16:00. Hudební doprovod zajistí Jiří Nečas a Hana Mašková
LOCATION:Kuřim
END:VEVENT
END:VCALENDAR