BEGIN:VCALENDAR
VERSION:2.0
CALSCALE:GREGORIAN
PRODID:-//MyApp//Calendar 1.0//EN
BEGIN:VEVENT
METHOD:PUBLISH
UID:39858@regionalniportaly.cz
DTSTAMP:20260422T184002Z
DTSTART;VALUE=DATE:20240312
DTEND;VALUE=DATE:20240313
SUMMARY:Planetárium Morava - Evropa pod hvězdami
DESCRIPTION:➡️ Planetárium Morava opět v Kuřimi v kulturním domě!➡️ 19:00 – Evropa pod hvězdami – 32 min.\, pro náročnějšího divákaVíce informací o filmech na: www.planetarium-morava.cz/nabidka-filmu➡️ Upozorňujeme na omezenou kapacitu každého představení.➡️ Vstup: 70 Kč/os./představení\; vstupenky zakoupíte na www.kulturakurim.cz nebo na pokladně kulturního domu. V prodeji od 12. 2.
LOCATION:Kuřim
END:VEVENT
END:VCALENDAR