BEGIN:VCALENDAR
VERSION:2.0
CALSCALE:GREGORIAN
PRODID:-//MyApp//Calendar 1.0//EN
BEGIN:VEVENT
METHOD:PUBLISH
UID:39844@regionalniportaly.cz
DTSTAMP:20260422T143224Z
DTSTART;VALUE=DATE:20240601
DTEND;VALUE=DATE:20240602
SUMMARY:Morkniman 2024
DESCRIPTION:Triatlon Morkniman (0\,3-16-4) je ryzí terénní závod pro amatérské závoďáky i nadšence\, kteří chtějí triatlon vyzkoušet poprvé.\nNedílnou součásti Triatlonové soboty jsou dětské závody - běh pro nejmenší a duatlon pro školáky\, který je součástí seriálu Sportuj s VITARem.\nRegistrace na závody budou spuštěny 26. února 2024\, registrace na morkniman.webnode.cz/prihlaska.\nPro bližší informace sleduj FB stránky @Morkniman.
LOCATION:Moravské Knínice
END:VEVENT
END:VCALENDAR