BEGIN:VCALENDAR
VERSION:2.0
CALSCALE:GREGORIAN
PRODID:-//MyApp//Calendar 1.0//EN
BEGIN:VEVENT
METHOD:PUBLISH
UID:39079@regionalniportaly.cz
DTSTAMP:20260422T155823Z
DTSTART;VALUE=DATE:20240227
DTEND;VALUE=DATE:20240228
SUMMARY:Vodník Česílko - Dětské divadelní představení
DESCRIPTION:➡️ 27. 2. 2024 od 17:00\, v kulturním domě➡️ Dětské divadelní představení Vodník Česílko od Divadla Scéna➡️ Česílko je důvtipný vodník\, který bydlí v rybníčku\, spolu s kaprem Osmikiláčem. Kousek od jejich rybníčku má svůj zámek lakomý Knížepán\, který tak trochu závidí Česílkovi přátelství s kaprem Osmikiláčem a zároveň usiluje o jejich rybník. K rybníčku se jednoho dne přistěhuje krásná Rusalka\, která hledá domov. Ta se spřátelí hlavně s Česílkem. Jenže Knížepán by se rád ženil a Rusalka se mu moc líbí. Přijďte zjistit\, jestli lakomý Knížepán bude mít svatbu s Rusalkou a nebo koho si rusalka nakonec vezme? Přijďte se podívat na pohádku\, podle dnes již klasického večerníčku.➡️ Určeno především pro děti ve věku mateřských škol a žáky prvních stupňů ZŠ.➡️ Vstup: 50 Kč\; vstupenky zakoupíte na www.kulturakurim.cz nebo na pokladně kulturního domu. V prodeji od 17. 1.
LOCATION:Kuřim
END:VEVENT
END:VCALENDAR