BEGIN:VCALENDAR
VERSION:2.0
CALSCALE:GREGORIAN
PRODID:-//MyApp//Calendar 1.0//EN
BEGIN:VEVENT
METHOD:PUBLISH
UID:39078@regionalniportaly.cz
DTSTAMP:20260422T172953Z
DTSTART;VALUE=DATE:20240223
DTEND;VALUE=DATE:20240224
SUMMARY:Budoár Staré Dámy & Květy
DESCRIPTION:➡️ Kapela Budoár staré dámy vznikla v roce 1998 a je považována za pokračovatele tradic brněnského alternativního rocku. Jejich styl je snadno rozpoznatelný díky energickému dívčímu zpěvu\, nakažlivým melodiím\, poetickým textům a neobvyklému ohýbání českých slov. Intuitivní\, místy křehký\, místy brutální hlasový projev Marty Kovářové solí na pódiu kytara Marka Laudáta a porcuje rytmika bubeníka Petra Fučíka a basáka Tomáše Ergense. Z koncertů číší radost z hraní\, naléhavost písňových sdělení střídá uvolňující humor v pauzách mezi písněmi\; kdy nikdy nevíte\, co se dozvíte!➡️ Skupina KVĚTY existuje už od začátku tohoto tisíciletí. Po celou dobu se výrazně měnil její zvuk. Od akustických nástrojů se přesunulo těžiště k hutnějšímu rockovému soundu s častým používáním elektroniky.Ačkoliv je experimentální a hledačská\, počet jejích posluchačů se rozrostl do velmi širokého spektra. Oceňovány jsou silné texty\, aranžérská barevnost\, brilantní výtvarné řešení obalů desek\, živelné koncerty a přítomnost humoru.➡️ 23. 2. 2024 / 20:00 / Kulturní dům➡️ Vstupenky v prodeji od pondělí 17. 1. na www.kulturakurim.cz nebo na pokladně kulturního domu. Vstupné: 250 Kč v předprodeji / 330 Kč v den akce.
LOCATION:Kuřim
END:VEVENT
END:VCALENDAR