BEGIN:VCALENDAR
VERSION:2.0
CALSCALE:GREGORIAN
PRODID:-//MyApp//Calendar 1.0//EN
BEGIN:VEVENT
METHOD:PUBLISH
UID:39076@regionalniportaly.cz
DTSTAMP:20260422T172335Z
DTSTART;VALUE=DATE:20240214
DTEND;VALUE=DATE:20240215
SUMMARY:Valentýnský degustační večer
DESCRIPTION:➡️ Ochutnávka vín z Vinařství Jakubík➡️ Začátek - 18:00➡️ Cena za ochutnávku 10 vzorků - 400 Kč➡️ Které vzorky ochutnáte?1. Pálava vzh 2022 (ocenění: FESTWINE 2023 - ZLATO\, GRAND PRIX VINEX 2023 - STŘÍBRO)2. Muškát žlutý ps 20223. Rulandské šedé ps 20224. Hibernal ps 20215. Sauvignon ps 20206. Frankovka ps 20207. Rulandské modré ps 20198. Rulandské šedé vzh 20189. Ryzlink rýnský ps 201810. Chardonnay Euro 96 vzh 2015 archiv (ocenění: TOP 77 2023)K degustaci podáváme sýr\, chléb a olivy.➡️ Vstupenky zakoupíte na www.kulturakurim.cz nebo na pokladně kulturního domu➡️ Upozorňujeme\, že kapacita akce je omezena 
LOCATION:Kuřim
END:VEVENT
END:VCALENDAR