BEGIN:VCALENDAR
VERSION:2.0
CALSCALE:GREGORIAN
PRODID:-//MyApp//Calendar 1.0//EN
BEGIN:VEVENT
METHOD:PUBLISH
UID:38977@regionalniportaly.cz
DTSTAMP:20260422T231249Z
DTSTART;VALUE=DATE:20240831
DTEND;VALUE=DATE:20240901
SUMMARY:Rakfest 2024
DESCRIPTION:Šestý ročník multižánrového open-air festivalu se uskuteční 31.8.2024 v Říčanech u Brna opět v areálu Marečkova louka.Přijedou opravdové hvězdy jako například Petr Bende nebo Hudba Praha\, ale můžete se těšit také na vynikající kapely spjaté s naším mikroregionem Kahan. Letos to bude zase pestré\, zazní rock\, pop\, folk\, alternativa... Sochař Martin Skalický pro nás vytvoří festivalovou sochu a povede s dětmi výtvarnou dílnu.Budou připraveny oblíbené hudební workshopy i festivalová knihovna. Přijede také řezbář Matěj se svými atrakcemi pro malé i velké. Chybět nebude skvělé jídlo a pití.
LOCATION:Říčany
END:VEVENT
END:VCALENDAR