BEGIN:VCALENDAR
VERSION:2.0
CALSCALE:GREGORIAN
PRODID:-//MyApp//Calendar 1.0//EN
BEGIN:VEVENT
METHOD:PUBLISH
UID:38692@regionalniportaly.cz
DTSTAMP:20260422T182901Z
DTSTART;VALUE=DATE:20240227
DTEND;VALUE=DATE:20240228
SUMMARY:Kurz Bun bo Nam Bo - OBSAZENO
DESCRIPTION:Máte rádi dobré jídlo? Máte rádi společnost? Chcete ochutnat a zároveň se naučit vařit něco nového? Máte oblíbené jídlo z restaurace či bistra a chcete si je připravovat sami doma kdykoliv se vám zachce? Přijměte tedy pozvání do naší zahradní kuchyně na Javůrku\, kde vás VIETNAMSKOU KUCHYNÍ provede moje kamarádka Lenka Vašíčková.Bude veselo a milo\, začínáme 27.2.2024 v 17 hodin oblíbenou klasikou Bún bò Nam Bộ. Přihlásit se můžete viz odkaz níže ⬇️ 😍Kapacita kurzu - - 4 osoby. Cena 1090\,-- Kč.Těšíme se na vás. ❤ paní Růžičková a Lenka Vašíčková
LOCATION:Javůrek
END:VEVENT
END:VCALENDAR