BEGIN:VCALENDAR
VERSION:2.0
CALSCALE:GREGORIAN
PRODID:-//MyApp//Calendar 1.0//EN
BEGIN:VEVENT
METHOD:PUBLISH
UID:38502@regionalniportaly.cz
DTSTAMP:20260422T214247Z
DTSTART;VALUE=DATE:20240410
DTEND;VALUE=DATE:20240411
SUMMARY:Trio Cimbalom - Spolek přátel hudby
DESCRIPTION:Projekt Trio Cimbalom vznikl z obdivu ke kulturnímu dědictví moravského folklóru a z lásky ke klasické hudbě.Každý z těchto proudů má v projektu svého zástupce.Folklorním zástupcem je cimbál Vlaďky Křenkové\, tím klasickým je klavír Kateřiny Ochmanové a vše dohromady pojí malebný mezzosoprán Dany Štastné.\nTrio Cimbalom představuje posluchačům klasická díla v nástrojově a zvukově netradiční podobě a probouzí v posluchačích emoce ukryté v odkazu skladeb českých i zahraničních skladatelů.\nAranže upravované na míru právě pro cimbál\, klavír a mezzosoprán dodávají celému projektu šmrnc. 
LOCATION:Kuřim
END:VEVENT
END:VCALENDAR