BEGIN:VCALENDAR
VERSION:2.0
CALSCALE:GREGORIAN
PRODID:-//MyApp//Calendar 1.0//EN
BEGIN:VEVENT
METHOD:PUBLISH
UID:38499@regionalniportaly.cz
DTSTAMP:20260422T154012Z
DTSTART;VALUE=DATE:20240124
DTEND;VALUE=DATE:20240125
SUMMARY:Posezení s písničkou
DESCRIPTION:Oblíbené každoměsíční setkání pro seniory. Prodej vstupenek a vstup do sálu od 15:15. Začínáme 16:00. Hudební doprovod zajistí Jiří Nečas. 
LOCATION:Kuřim
END:VEVENT
END:VCALENDAR