BEGIN:VCALENDAR
VERSION:2.0
CALSCALE:GREGORIAN
PRODID:-//MyApp//Calendar 1.0//EN
BEGIN:VEVENT
METHOD:PUBLISH
UID:38497@regionalniportaly.cz
DTSTAMP:20260422T155921Z
DTSTART;VALUE=DATE:20240117
DTEND;VALUE=DATE:20240118
SUMMARY:Novoroční koncert: Moravské klavírní trio a hosté
DESCRIPTION:➡️ Ve velkém sále kulturního domu Kuřim ve středu 17. 1. 2024 večer zahraje Moravské klavírní trio\, které se řadí k souborům s nejrozsáhlejším repertoárem v Evropě.➡️ Jana Ryšánková - klavír\, Jiří Jahoda - housle\, Miroslav Zicha - violoncello➡️ Hosté budou operní sólisté: Zuzana Čurmová – sopránDenis Zjatik – baryton➡️ Vstupné 300 Kč/os.\, vstupenky v prodeji od 2. 1. 2024 na www.kulturakurim.cz nebo na pokladně kulturního domu.
LOCATION:Kuřim
END:VEVENT
END:VCALENDAR