BEGIN:VCALENDAR
VERSION:2.0
CALSCALE:GREGORIAN
PRODID:-//MyApp//Calendar 1.0//EN
BEGIN:VEVENT
METHOD:PUBLISH
UID:38032@regionalniportaly.cz
DTSTAMP:20260422T184043Z
DTSTART;VALUE=DATE:20240322
DTEND;VALUE=DATE:20240323
SUMMARY:Tomáš Klus & Cílová skupina
DESCRIPTION:➡️ Český písničkář\, textař a skladatel Tomáš Klus vystoupí v Kuřimi!➡️ 22. 3. 2024 / 19:00 / Kulturní dům➡️ Vstupenky v prodeji od pondělí 27. 11. na www.kulturakurim.cz nebo na pokladně kulturního domu. Cena vstupenky je 790 Kč v předprodeji / 870 Kč v den akce.
LOCATION:Kuřim
END:VEVENT
END:VCALENDAR