BEGIN:VCALENDAR
VERSION:2.0
CALSCALE:GREGORIAN
PRODID:-//MyApp//Calendar 1.0//EN
BEGIN:VEVENT
METHOD:PUBLISH
UID:38031@regionalniportaly.cz
DTSTAMP:20260422T200749Z
DTSTART;VALUE=DATE:20240207
DTEND;VALUE=DATE:20240208
SUMMARY:Jan Smigmator & Band
DESCRIPTION:➡️ Zpěvák\, který na hudební scéně 21. století s noblesou a elegancí sobě vlastní ztělesňuje odkaz swingových králů\, jakými byli Frank Sinatra\, Sammy Davis jr.\, Dean Martin\, Bobby Darin\, Mel Tormé\, Matt Monro nebo Tony Bennett\, kterého Jan označuje navíc za svůj největší pěvecký vzor.Smigmatorův výjimečný hlas\, osobitý styl\, bezchybné frázování\, pódiová prezentace a přirozený cit pro swing ho řadí mezi přední interprety tohoto žánru nejen u nás\, ale i v Evropě. Proto bývá také často označován jako evropský ambasador Velkého amerického zpěvníku.➡️ 7. 2. 2024 / 19:30 / kulturní dům➡️ Vstupné: 450 Kč/os.➡️ Vstupenky zakoupíte na www.kulturakurim.cz/akce-jan-smigmator-band nebo na pokladně kulturního domu. 
LOCATION:Kuřim
END:VEVENT
END:VCALENDAR