BEGIN:VCALENDAR
VERSION:2.0
CALSCALE:GREGORIAN
PRODID:-//MyApp//Calendar 1.0//EN
BEGIN:VEVENT
METHOD:PUBLISH
UID:38030@regionalniportaly.cz
DTSTAMP:20260422T155942Z
DTSTART;VALUE=DATE:20240125
DTEND;VALUE=DATE:20240126
SUMMARY:BIKE O´CLOCK uvádí: Živá jakoby talkshow
DESCRIPTION:HISTORICKY PRVNÍ VYSTOUPENÍ BIKE O'CLOCK TOHOTO DRUHU!Dvojice bikerů a showmanů na kolech Damjan Siriški a Ondra Šenk známí jako BIKE O'Clock nachystali zábavný program nejen pro všechny milovníky kol a akčních sportů!Budou se odhalovat pikantérie a nahlédneme do zákulisí životů bikerů\, kteří už několik let sdílejí se světem svá bajková dobrodružství prostřednictvím Youtube videí.Tohle bude naprostá novinka v repertoáru Damexe a Ondrise!Diváky čeká více než dvouhodinový program a mohou se těšit na zajímavé povídání od kluků z BIKE O'Clock\, kteří poodhalí\, co vše stojí za tím\, že se mohou živit svým největším koníčkem.Budou se promítat videa a kluci budou odtajňovat průběh točení a odhalovat pikantní historky\, které byly s točením spojené.Ondris s Damexem také naťuknou peripetie týkající se života na internetu a prapodivné trendy na sociálních sítích.Proběhne i challenge\, ve které se kluci utkají proti některým z diváků.Na místě bude možné kouknout se zblízka a osahat si kola a různé peklostroje\, které zanechaly výraznou stopu v tvorbě BIKE O'Clock.Po skončení programu budou Damex s Ondrisem k dispozici při autogramiádě\, kde budou rozdávány limitované podpisové kartičky\, úsměvy do foťáků a bude možné také zajistit dárek v podobě merche BIKE O'Clock!Pro návštěvníky naší talkshow chystáme také jedno velmi překvapivé číslo\, které dopadne buď epickým úspěchem nebo naprostým fiaskem!Naše nová "jakoby talkshow" bude skvělé zpestření zimních dní a my se moc těšíme na všechny\, kteří za námi dorazí do Společenského a kulturního centra Kuřim!Je čas jezdit!➡️ 25. 1. / 17:00 / kulturní dům➡️ www.bikeoclock.cz➡️ Vstupné dospělí: 350 Kč/os.\, vstupné děti do 12 let: 190 Kč/os.\; předprodej vstupenek bude zahájen ve středu 29. 11. v 9:00 na www.kulturakurim.cz nebo na pokladně kulturního domu.
LOCATION:Kuřim
END:VEVENT
END:VCALENDAR