BEGIN:VCALENDAR
VERSION:2.0
CALSCALE:GREGORIAN
PRODID:-//MyApp//Calendar 1.0//EN
BEGIN:VEVENT
METHOD:PUBLISH
UID:38029@regionalniportaly.cz
DTSTAMP:20260422T172944Z
DTSTART;VALUE=DATE:20240112
DTEND;VALUE=DATE:20240113
SUMMARY:Retro diskotéka
DESCRIPTION:➡️ Další RETRO DISKOTÉKA na kulťase!➡️ Hrát pro Vás bude opět Dj Lais.➡️ 12. 1. / 20:00 - 01:00 / Kulturní dům➡️ Vstupné: 150 Kč\, vstupenky zakoupíte na www.kulturakurim.cz nebo na pokladně kulturního domu. Vstup od 18 let.➡️ Upozorňujeme\, že počet míst je omezen. 
LOCATION:Kuřim
END:VEVENT
END:VCALENDAR