BEGIN:VCALENDAR
VERSION:2.0
CALSCALE:GREGORIAN
PRODID:-//MyApp//Calendar 1.0//EN
BEGIN:VEVENT
METHOD:PUBLISH
UID:37294@regionalniportaly.cz
DTSTAMP:20260422T182936Z
DTSTART;VALUE=DATE:20231205
DTEND;VALUE=DATE:20231206
SUMMARY:Truhlík a Truhlička vánoční hvězdička I divadlo pro děti
DESCRIPTION:➡️ 5. 12. 2023 od 17:00\, v kulturním domě➡️ Dětské divadelní představení Truhlík a Truhlička vánoční hvězdička v podání Divadla z Truhlice➡️ Dvojice skřítků z čarovné truhlice\, se kterou se možná některé děti setkaly již při pohádce O stolování\, se opět vrací\, aby společně oslavila Vánoce. Ale jak vlastně vše připravit tak\, aby to bylo správně a o čem ty Vánoce vlastně jsou? O dárcích? O dobrotách? O vánočním úklidu? Nebo o sněhové nadílce? Vánoční pohádka\, ve které se na Vánoce nachystáme\, a připomeneme si klasické zvyky a obyčeje nejkrásnějších svátků v roce.➡️ Vstup: 50 Kč
LOCATION:Kuřim
END:VEVENT
END:VCALENDAR