BEGIN:VCALENDAR
VERSION:2.0
CALSCALE:GREGORIAN
PRODID:-//MyApp//Calendar 1.0//EN
BEGIN:VEVENT
METHOD:PUBLISH
UID:37133@regionalniportaly.cz
DTSTAMP:20260422T200540Z
DTSTART;VALUE=DATE:20231206
DTEND;VALUE=DATE:20231207
SUMMARY:Posezení s písničkou
DESCRIPTION:Oblíbené každoměsíční setkání pro seniory. Prodej vstupenek a vstup do sálu od 15:15. Začínáme 16:00. Hudební doprovod zajistí Jiří Nečas. Vstupné50 Kč.
LOCATION:Kuřim
END:VEVENT
END:VCALENDAR