BEGIN:VCALENDAR
VERSION:2.0
CALSCALE:GREGORIAN
PRODID:-//MyApp//Calendar 1.0//EN
BEGIN:VEVENT
METHOD:PUBLISH
UID:36769@regionalniportaly.cz
DTSTAMP:20260422T171237Z
DTSTART;VALUE=DATE:20231219
DTEND;VALUE=DATE:20231220
SUMMARY:Manželský čtyřúhelník na horách | Divadelní představení
DESCRIPTION:➡️ Osudy čtyř protagonistů z komedie Manželský čtyřúhelník se dočkaly pokračování. Kdo má vynášet smetí\, proč se chlapi nikdy neptají na cestu a jak se správně vymačkává zubní pasta?Nejen to budeme řešit na horské chatě před Vánocemi.➡️ Hrají: Ivana Jirešová | Dana Homolová |Martin Sitta | Vladimír Kratina➡️ Režie: Jakub Zindulka➡️ Fanny agentura➡️ Orientační délka představení: 90 minut➡️ 19. 12. / 19:00 / Kulturní dům➡️ Vstupné: 300 Kč předprodej / 380 Kč v den akce\, vstupenky k zakoupení od 1. 9. na www.kulturakurim.cz nebo na pokladně kulturního domu. 
LOCATION:Kuřim
END:VEVENT
END:VCALENDAR