BEGIN:VCALENDAR
VERSION:2.0
CALSCALE:GREGORIAN
PRODID:-//MyApp//Calendar 1.0//EN
BEGIN:VEVENT
METHOD:PUBLISH
UID:36764@regionalniportaly.cz
DTSTAMP:20260422T171227Z
DTSTART;VALUE=DATE:20231126
DTEND;VALUE=DATE:20231127
SUMMARY:Kouzelný pohádkář | Zábava pro děti
DESCRIPTION:➡️ Vstupte s námi do světa kouzel\, magie a zábavy! To vše navíc s pohádkovými postavami\, jak je znáte nejen z televizních obrazovek. Budeme cestovat z pohádky do pohádky a v každé si ukážeme nějaké kouzlo. Můžete se těšit na originální zábavu nejen pro děti!➡️ Účinkující: Michal Klaus\, Eliška Kenclová nebo Natálie Kotenová➡️ Vystoupení je určeno pro děti 3 – 12 let.➡️ Délka cca 60 minut\, bez přestávky.➡️ 26. 11. / 17:00 / kulturní dům➡️ www.michalklaus.cz➡️ Vstupné: 50 Kč/os.
LOCATION:Kuřim
END:VEVENT
END:VCALENDAR