BEGIN:VCALENDAR
VERSION:2.0
CALSCALE:GREGORIAN
PRODID:-//MyApp//Calendar 1.0//EN
BEGIN:VEVENT
METHOD:PUBLISH
UID:35678@regionalniportaly.cz
DTSTAMP:20260422T184013Z
DTSTART;VALUE=DATE:20231028
DTEND;VALUE=DATE:20231029
SUMMARY:Halloween party
DESCRIPTION:HALLOWEEN na Lomnici !!!&nbsp\;Datum: 28. října 2023Místo konání: Sokolovna\, Lomnice u TišnovaPřichází největší podzimní párty v na Tišnovsku - HALLOWEEN na Lomnici!Letošním tématem jsou ZOMBIE.DRINK ZDARMA PRO VŠECHNY V TÉMATICKÉM OBLEČENÍVstup od 18 letVstup v předprodeji : 100\,-Na místě do 22:00 : 150\,-Na místě od 22:00 : 200\,-
LOCATION:Lomnice
END:VEVENT
END:VCALENDAR