BEGIN:VCALENDAR
VERSION:2.0
CALSCALE:GREGORIAN
PRODID:-//MyApp//Calendar 1.0//EN
BEGIN:VEVENT
METHOD:PUBLISH
UID:35580@regionalniportaly.cz
DTSTAMP:20260422T171208Z
DTSTART;VALUE=DATE:20231115
DTEND;VALUE=DATE:20231116
SUMMARY:Tišnovský komorní orchestr | Spolek přátel hudby
DESCRIPTION: Ve Společenském a kulturním centru Kuřim ve středu 15. 11. 2023 vystoupí Tišnovský komorní orchestr.  Je to neprofesionální smyčcové těleso\, složené z hudebníků z Brna\, Tišnova a okolí. V jeho řadách jsou také hudební profesionálové\, a to buď jako stálí hráči\, nebo účinkují jako hosté.  Vstupné: 250 Kč\; vstupenky k zakoupení na https://www.kulturakurim.cz/akce-tisnovsky-komorni... nebo na pokladně kulturního domu.
LOCATION:Kuřim
END:VEVENT
END:VCALENDAR