BEGIN:VCALENDAR
VERSION:2.0
CALSCALE:GREGORIAN
PRODID:-//MyApp//Calendar 1.0//EN
BEGIN:VEVENT
METHOD:PUBLISH
UID:35576@regionalniportaly.cz
DTSTAMP:20260422T183018Z
DTSTART;VALUE=DATE:20231025
DTEND;VALUE=DATE:20231026
SUMMARY:Jakub Pustina a hosté | Spolek přátel hudby
DESCRIPTION: Ve Společenském a kulturním centru Kuřim ve středu 25. 10. 2023 vystoupí Jakub Pustina a vítězové Mezinárodní pěvecké soutěže Gabriely Beňačkové. Mezinárodní pěvecká soutěž Gabriely Beňačkové je prestižní událostí světového významu\, která v současnosti patří mezi největší operní soutěže světa a je vyhlašována ve více než 60ti zemích.  Vstupné: 250 Kč\; vstupenky k zakoupení na http://www.kulturakurim.cz/akce-jakub-pustina-hoste... nebo na pokladně kulturního domu.Přijďte strávit večer s klasickou hudbou
LOCATION:Kuřim
END:VEVENT
END:VCALENDAR