BEGIN:VCALENDAR
VERSION:2.0
CALSCALE:GREGORIAN
PRODID:-//MyApp//Calendar 1.0//EN
BEGIN:VEVENT
METHOD:PUBLISH
UID:35572@regionalniportaly.cz
DTSTAMP:20260422T200642Z
DTSTART;VALUE=DATE:20231011
DTEND;VALUE=DATE:20231012
SUMMARY:Posezení s písničkou
DESCRIPTION: vstupné 50 Kč  vstup do sálu od 15:15 hod.  zahraje Jiří Nečas  místo konání - Společenské a kulturní centrum Kuřim
LOCATION:Kuřim
END:VEVENT
END:VCALENDAR