BEGIN:VCALENDAR
VERSION:2.0
CALSCALE:GREGORIAN
PRODID:-//MyApp//Calendar 1.0//EN
BEGIN:VEVENT
METHOD:PUBLISH
UID:35570@regionalniportaly.cz
DTSTAMP:20260422T183920Z
DTSTART;VALUE=DATE:20231003
DTEND;VALUE=DATE:20231004
SUMMARY:Odhalená pravda - divadlo
DESCRIPTION: The Naked Truth je příběhem pěti žen\, které se setkávají ve vesnické tělocvičně-místním „kulturáku“ na kurzu pole dance.Ani jedna z nich netuší\, co ji čeká\, ale každá má svůj vlastní dobrý důvod naučit se tančit u tyče: zvýšit si sebevědomí\, získat nebo udržet si muže\, vdát se\, shodit pár kilogramů anebo se vydat za vytouženou kariérou. I přes nejrůznější dívčí třenice a neshody se ve chvíli\, kdy se jedna z nich dozví krutou zprávu o svém zdravotním stavu\, semknou a nově nabyté taneční zkušenosti využijí v benefici ve prospěch charitativního projektu.  Hrají:Trisha – Anna Stropnická\, Hana KusnjerováBev – Anežka Rusevová\, (Alena Hladká)Fait – Natálie Tichánková\, Milada Vyhnálková\, (Alžběta Vaculčiaková)Sarah – Hana HalberstadtRita – Pavla VitázkováGaby – Gabriela Štefanová  Režie: Petr Halberstadt  Divadlo STAGEARTCZ  Orientační délka představení: 2:20 hod. s pauzou  3. 10. / 19:00 / Kulturní dům  Vstupné: 350 Kč předprodej / 430 Kč v den akce\, vstupenky k zakoupení na http://www.kulturakurim.cz/akce-naked-truth-odhalena... nebo na pokladně kulturního domu.
LOCATION:Kuřim
END:VEVENT
END:VCALENDAR