BEGIN:VCALENDAR
VERSION:2.0
CALSCALE:GREGORIAN
PRODID:-//MyApp//Calendar 1.0//EN
BEGIN:VEVENT
METHOD:PUBLISH
UID:35534@regionalniportaly.cz
DTSTAMP:20260422T182417Z
DTSTART;VALUE=DATE:20231013
DTEND;VALUE=DATE:20231014
SUMMARY:WILD fest - zámecká zahrada
DESCRIPTION:Wild fest - zámecká zahrada&nbsp\;/// od 18:00 na zahradě za Kuřimským zámkem (Open Air)Těšit se můžete na:- pohodový set při západu slunce.- vodní dýmky- Caballero cocktail bar!!!VSTUP ZDARMA!!!&nbsp\;/// od 22:00 ožije vnitřní stage v klubu Escape.Tam rozjedeme klasickou divočinu\, jak ji znáte z předešlých akcí&nbsp\;LÍSTKY:&nbsp\; &nbsp\; &nbsp\;100\,- předprodej / 150\,- na místě&nbsp\;OMEZENA KAPACITA\, MAX 150ks&nbsp\;Pro více informací sleduj událost
LOCATION:Kuřim
END:VEVENT
END:VCALENDAR