BEGIN:VCALENDAR
VERSION:2.0
CALSCALE:GREGORIAN
PRODID:-//MyApp//Calendar 1.0//EN
BEGIN:VEVENT
METHOD:PUBLISH
UID:35068@regionalniportaly.cz
DTSTAMP:20260422T214335Z
DTSTART;VALUE=DATE:20230926
DTEND;VALUE=DATE:20230927
SUMMARY:Psychologie masových vrahů
DESCRIPTION: Kdo je masový vrah? Jak myslí? Jak žije? Jaká je jeho životní cesta? Jaké jsou jeho motivy? Je masový vrah produktem nemocné společnosti? To vše se dozvíte na další přednášce Andreje Drbohlava.  Andrej Drbohlav se dlouhodobě věnuje analýze profilu mnohonásobných vrahů a dalším extrémním formám behaviorální patologie a psychopatologie.  26. 9. / 18:00 / Kulturní dům  Vstup: 200 Kč/os. vstupenky k prodeji na www.kulturakurim.cz/akce-psychologie-masovych-vrahu-phdr-andrej-drbohlav
LOCATION:Kuřim
END:VEVENT
END:VCALENDAR