BEGIN:VCALENDAR
VERSION:2.0
CALSCALE:GREGORIAN
PRODID:-//MyApp//Calendar 1.0//EN
BEGIN:VEVENT
METHOD:PUBLISH
UID:35065@regionalniportaly.cz
DTSTAMP:20260422T200700Z
DTSTART;VALUE=DATE:20230919
DTEND;VALUE=DATE:20230920
SUMMARY:Halabala show
DESCRIPTION: Nový interaktivní stand-up program pro děti všech věkových skupin od 3 – 11 let. Ale nejen pro ně i dospěláci si show užijí.  Představení je složeno z triků a kouzel\, které mají komediální podtext. Jsou vytvořena tak\, aby se děti musely smát až se budou za bříška popadat. Svižné tempo a střídání aktivit které jsou v programu obsaženy zaručuje 100% pozornost dětského publika i spolupráci na čarování\, soutěžích\, hrách a tancování. Děti se mimo jiné naučí třídit odpad\, poznávat co je zdravé a nezdravé i si vyzkouší pozornost s postřehem. Snažíme se u dětí rozvíjet jemnou i hrubou motoriku.  19. 9. / 17:00 / kulturní dům  Hopsík.cz  Vstupné: 50 Kč/os.\; vstupenky v prodeji na www.kulturakurim.cz/akce-halabala-show-zabava-pro-deti nebo na pokladně kulturního domu.
LOCATION:Kuřim
END:VEVENT
END:VCALENDAR