BEGIN:VCALENDAR
VERSION:2.0
CALSCALE:GREGORIAN
PRODID:-//MyApp//Calendar 1.0//EN
BEGIN:VEVENT
METHOD:PUBLISH
UID:35064@regionalniportaly.cz
DTSTAMP:20260422T171341Z
DTSTART;VALUE=DATE:20230918
DTEND;VALUE=DATE:20230919
SUMMARY:Divadelní představení Královny
DESCRIPTION: Lázeňský pokoj možná nevypadá jako vhodné místo pro komedii\, ale opak je pravdou. Tři ženy\, které se na něm sejdou\, by se za normálních okolností nemohly nikdy setkat\, nebýt havárie vodovodního potrubí\, ke které dojde v jednom z lázeňských křídel. Každá z hrdinek má odlišný problém\, přesto však mají cosi společného – všechny byly v nedávné době vystaveny zlomovým životním okamžikům a teď stojí před nelehkým úkolem – naučit se žít své nové životy. Johana (40) je po autohavárii\, podrobila se operaci nohy a došlo ke komplikacím. Lázně jsou její poslední možnost záchrany\, jinak hrozí\, že o nohu přijde. Zita (60) má zase problémy s nervy a v lázních je kvůli duševní očistě. Mladá slečna Eliška (25) přišla v nedávné době o zrak a učí se s tímto handicapem žít. Tyto tři postavy jsou generačně i sociálně každá někde naprosto jinde\, přesto spolu musí strávit relativně dlouhou dobu. A je to právě humor\, který drží člověka nad vodou v těch nejtěžších chvílích a pomáhá mu zdolávat i ty nejhorší překážky. Královny jsou komedií plnou upřímného humoru\, ze kterého občas mrazí v zádech.  Hraji: Jana Boušková nebo Martina Hudečková\, Vilma Cibulková\, Karolína Půčková  Režie: Petr Svojtka  Divadlo SPOLUhra  Orientační délka představení: 2 hod.  18. 9. / 19:00 / Kulturní dům  Vstupné: 350 Kč předprodej / 430 Kč v den akce\, vstupenky k zakoupení od 1. 9. na www.kulturakurim.cz nebo na pokladně kulturního domu. Do konce srpna je možné zakoupit na pokladně kulturního domu divadelní předplatné na sezónu podzim/zima 2023
LOCATION:Kuřim
END:VEVENT
END:VCALENDAR