BEGIN:VCALENDAR
VERSION:2.0
CALSCALE:GREGORIAN
PRODID:-//MyApp//Calendar 1.0//EN
BEGIN:VEVENT
METHOD:PUBLISH
UID:35063@regionalniportaly.cz
DTSTAMP:20260422T200724Z
DTSTART;VALUE=DATE:20230913
DTEND;VALUE=DATE:20230914
SUMMARY:Duo Jamaha
DESCRIPTION: vstupné: předprodej 280 Kč / v den akce 330 Kč  vstup do sálu od 15:15 hod.  místo konání - Společenské a kulturní centrum Kuřim  vstupenky zakoupíte na www.kulturakurim.cz nebo na pokladně kulturního domu
LOCATION:Kuřim
END:VEVENT
END:VCALENDAR