BEGIN:VCALENDAR
VERSION:2.0
CALSCALE:GREGORIAN
PRODID:-//MyApp//Calendar 1.0//EN
BEGIN:VEVENT
METHOD:PUBLISH
UID:35034@regionalniportaly.cz
DTSTAMP:20260422T184052Z
DTSTART;VALUE=DATE:20230906
DTEND;VALUE=DATE:20230907
SUMMARY:Tři tenoři
DESCRIPTION: Ve Společenském a kulturním centru Kuřim ve středu 6. 9. 2023 v 19:30 vystoupí mužské pěvecké trio Tři Tenoři s koncertem Opera Gentlemen.  Tři krásné mužské hlasy\, světoznámý repertoár a skvělé provedení. To je deviza pořadu\, který nese název Tři Tenoři.  Ján Kostelanský – tenor\, Pražský filharmonický sborMilan Pelikán – tenor\, Pražský filharmonický sborJuraj Nociar – tenor\, Opera Moravskoslezského divadla OpavaKlavírní doprovod - Lenka Navrátilová\, v alternaci Ahmad Hedar  Vstupné 250 Kč/os.\; www.kulturakurim.cz/akce-tri-tenori-spolek-pratel-hudbyPřijďte strávit večer s klasickou hudbou 
LOCATION:Kuřim
END:VEVENT
END:VCALENDAR