BEGIN:VCALENDAR
VERSION:2.0
CALSCALE:GREGORIAN
PRODID:-//MyApp//Calendar 1.0//EN
BEGIN:VEVENT
METHOD:PUBLISH
UID:34402@regionalniportaly.cz
DTSTAMP:20260422T213457Z
DTSTART;VALUE=DATE:20230817
DTEND;VALUE=DATE:20230818
SUMMARY:Kino I ONEMANSHOW - The Movie
DESCRIPTION:Po více než půlroční odmlce se na scénu vrací provokatér Kamil Bartošek\, známý jako Kazma. Internetový fenomén\, jehož videa mají miliony zhlédnutí a vyvolávají kontroverzní přijetí\, uvede do kin celovečerní film. Dlouho připravovaný projekt\, na kterém Kazma a jeho tým pracovali v nejpřísnějším utajení 4 roky\, se 17. srpna 2023 dočká svého velkého odhalení v českých kinech.
LOCATION:Kuřim
END:VEVENT
END:VCALENDAR